BEGIN:VCALENDAR
VERSION:2.0
PRODID:-//Udaipur World Music Festival - ECPv6.0.5//NONSGML v1.0//EN
CALSCALE:GREGORIAN
METHOD:PUBLISH
X-WR-CALNAME:Udaipur World Music Festival
X-ORIGINAL-URL:https://udaipurworldmusicfestival.com/uwmf2022
X-WR-CALDESC:Events for Udaipur World Music Festival
REFRESH-INTERVAL;VALUE=DURATION:PT1H
X-Robots-Tag:noindex
X-PUBLISHED-TTL:PT1H
BEGIN:VTIMEZONE
TZID:UTC
BEGIN:STANDARD
TZOFFSETFROM:+0000
TZOFFSETTO:+0000
TZNAME:UTC
DTSTART:20220101T000000
END:STANDARD
END:VTIMEZONE
BEGIN:VEVENT
DTSTART;TZID=UTC:20221218T140000
DTEND;TZID=UTC:20221218T150000
DTSTAMP:20260423T153258
CREATED:20221207T114832Z
LAST-MODIFIED:20221207T115233Z
UID:25526-1671372000-1671375600@udaipurworldmusicfestival.com
SUMMARY:Anoushka Maskey
DESCRIPTION:Anoushka Maskey is a singer-songwriter\, based in Sikkim/Mumbai\, India. With roots set in folk music and a fondness for storytelling\, she identifies as a lyrics-first musician.   She launched her career in 2020 with the release of two back to back EP’s – Things I Saw in a Dream (August 2020) and C.E.A.S.E (September 2020) followed by singles September Embers (December 2020) & Empire of Fear (April 2021). Her music has performed fairly well across both streaming platforms and YouTube\, having crossed 100K+ streams organically across Spotify and Apple music\, and 100K + views on YouTube channel – all within a few months of her first release. Her EP C.E.A.S.E was also ranked #3 on the ’10 Best EPs of 2020′ list by Rolling Stone India. In September 2020\, she won a PAN India “Singer-Songwriter contest” organised by OKListen and Compass Box Studio\, which led to the recording and release of “Empire of Fear.”   Anoushka has been featured in several leading media outlets including Rolling Stone India\, Score Magazine\, Homegrown\,  The Indian Express \, GQ\, Mid day\, amongst several others. Her sound\, as well as songwriting\, connotes a warm; almost nostalgic feel. She aims to continue making honest music and creating from the heart.
URL:https://udaipurworldmusicfestival.com/uwmf2022/event/anoushka-maskey/
LOCATION:Fateh Sagar Paal\, Fateh Sagar Lake\, Udaipur\, Rajasthan\, 313001\, India
CATEGORIES:Alternative Indie Pop,December 18,Fateh Sagar Paal
ATTACH;FMTTYPE=image/jpeg:https://udaipurworldmusicfestival.com/uwmf2022/wp-content/uploads/2022/12/AnoushkaMaskey.jpg
END:VEVENT
END:VCALENDAR